BEGIN:VCALENDAR
VERSION:2.0
PRODID:spatie/icalendar-generator
DESCRIPTION:Events from Showpony Lounge and Karaoke
X-WR-CALDESC:Events from Showpony Lounge and Karaoke
REFRESH-INTERVAL;VALUE=DURATION:PT1440M
X-PUBLISHED-TTL:PT1440M
BEGIN:VTIMEZONE
TZID:Etc/GMT+0
BEGIN:STANDARD
DTSTART:20240209T200000Z
TZOFFSETFROM:+0000
TZOFFSETTO:+0000
END:STANDARD
END:VTIMEZONE
BEGIN:VTIMEZONE
TZID:UTC
BEGIN:STANDARD
DTSTART:20250727T113456Z
TZOFFSETFROM:+0000
TZOFFSETTO:+0000
END:STANDARD
END:VTIMEZONE
BEGIN:VEVENT
UID:6-2
DTSTAMP:20260423T113456Z
SUMMARY:Movie Tuesdays
LOCATION:
ORGANIZER;CN=Mike:MAILTO:greaser.mike@gmail.com
RRULE:FREQ=WEEKLY;UNTIL=20251007T000000Z
DTSTART;TZID=Etc/GMT+0:20241105T200000
DTEND;TZID=Etc/GMT+0:20241105T210000
X-ALT-DESC;FMTTYPE=TEXT/HTML:
CATEGORIES:General
URL;VALUE=URI:https://showponylounge.com/mc-events/movie-tuesdays/?mc_id=6
METHOD:PUBLISH
END:VEVENT
END:VCALENDAR